BEGIN:VCALENDAR
VERSION:2.0
PRODID:-//My Calendar//mxm.dk//
BEGIN:VEVENT
SUMMARY:elBananero en Valencia
DTSTART:20251003T180000Z
DTEND:20251003T213000Z
DTSTAMP:20260424T134118Z
DESCRIPTION:<p>Vuelve a España "El Bananero"\, también conocido como "el
  Gordo Chupa p*jas que hace Videos" o el Rey de la Paj*"\, con un espectá
 culo único Bizarro\, Jeropa\, Sexual y Zarpado! Preparate para cagarte de
  risa y cantar a grito pelado todos sus hits. Un tsunami de chele en tu ca
 ra en un show donde no existe la censura y todo vale. Te invita a no tomar
  la vida con tanta seriedad ni mala onda.</p><p>A disfrutarlo!!! Sino\, ch
 upense una pij* enorme. SAAPEEEE!!! - El Bananero</p><p><br></p><p>El Bana
 nero en Valencia\, 20 ANIVERSARIO\, el 03/10/2025 SALA MADISON CONCERT CLU
 B\, Valencia\, España.</p><p><br></p><p>20:00hs Apertura de puertas</p><p
 >20:30hs Banda soporte&nbsp\;</p><p>21:30hs El Bananero</p>
END:VEVENT
END:VCALENDAR
